BEGIN:VCALENDAR
VERSION:2.0
PRODID:-//Jūrmalas Jaunieši - ECPv6.15.17.1//NONSGML v1.0//EN
CALSCALE:GREGORIAN
METHOD:PUBLISH
X-WR-CALNAME:Jūrmalas Jaunieši
X-ORIGINAL-URL:https://jurmalasjauniesi.lv
X-WR-CALDESC:Events for Jūrmalas Jaunieši
REFRESH-INTERVAL;VALUE=DURATION:PT1H
X-Robots-Tag:noindex
X-PUBLISHED-TTL:PT1H
BEGIN:VTIMEZONE
TZID:Europe/Riga
BEGIN:DAYLIGHT
TZOFFSETFROM:+0200
TZOFFSETTO:+0300
TZNAME:EEST
DTSTART:20250330T010000
END:DAYLIGHT
BEGIN:STANDARD
TZOFFSETFROM:+0300
TZOFFSETTO:+0200
TZNAME:EET
DTSTART:20251026T010000
END:STANDARD
BEGIN:DAYLIGHT
TZOFFSETFROM:+0200
TZOFFSETTO:+0300
TZNAME:EEST
DTSTART:20260329T010000
END:DAYLIGHT
BEGIN:STANDARD
TZOFFSETFROM:+0300
TZOFFSETTO:+0200
TZNAME:EET
DTSTART:20261025T010000
END:STANDARD
BEGIN:DAYLIGHT
TZOFFSETFROM:+0200
TZOFFSETTO:+0300
TZNAME:EEST
DTSTART:20270328T010000
END:DAYLIGHT
BEGIN:STANDARD
TZOFFSETFROM:+0300
TZOFFSETTO:+0200
TZNAME:EET
DTSTART:20271031T010000
END:STANDARD
END:VTIMEZONE
BEGIN:VEVENT
DTSTART;TZID=Europe/Riga:20260414T160000
DTEND;TZID=Europe/Riga:20260414T170000
DTSTAMP:20260419T160635
CREATED:20260331T105839Z
LAST-MODIFIED:20260331T105839Z
UID:1465-1776182400-1776186000@jurmalasjauniesi.lv
SUMMARY:Speaking Club Jauniešu mājā Let’s talk and play
DESCRIPTION:14.aprīlī plkst. 16.00 – Speaking Club Jauniešu mājā Let’s talk and play! \n\n\n\nVēlies uzlabot savu angļu valodu jautrā\, draudzīgā un nepiespiestā atmosfērā?Tad pievienojies Speaking Club! \n\n\n\n🟢 Kopā spēlēsim valodu spēles\, diskutēsim par dažādām tēmām un vienkārši labi pavadīsim laiku\, praktizējot angļu valodu. \n\n\n\n➡️ Laipni aicināti visi jaunieši\, neatkarīgi no valodas zināšanu līmeņa – galvenais ir vēlme runāt un izmēģināt sevi!
URL:https://jurmalasjauniesi.lv/event/speaking-club-jauniesu-maja-lets-talk-and-play/
ATTACH;FMTTYPE=image/png:https://jurmalasjauniesi.lv/wp-content/uploads/2026/03/image-8.png
END:VEVENT
BEGIN:VEVENT
DTSTART;TZID=Europe/Riga:20260414T170000
DTEND;TZID=Europe/Riga:20260414T190000
DTSTAMP:20260419T160635
CREATED:20260414T075955Z
LAST-MODIFIED:20260414T075956Z
UID:1482-1776186000-1776193200@jurmalasjauniesi.lv
SUMMARY:Dungeons & Dragons spēļu vakars
DESCRIPTION: Dungeons & Dragons spēļu vakars jauniešiem sadarbībā ar Jūrmalas Centrālo bibliotēku  🐉 \n\n\n\n📅 14. aprīlis🕔 Plkst. 17:00📍 Jaunatnes iniciatīvu centrā \n\n\n\n🟢 Dungeons & Dragons ir aizraujoša lomu spēle\, kur katrs spēlētājs iejūtas viena unikāla varoņa lomā. Tā nav par vienību vadīšanu — tā ir par Tavu personīgo stāstu\, izvēlēm un piedzīvojumiem! \n\n\n\n🟢 Spēlētāju grupa kopā dodas iztēles pilnos piedzīvojumos\, kurus vada spēles vadītājs — stāstnieks un noteikumu pārzinātājs vienā personā. \n\n\n\n🟢 Tevi sagaida:🧩 mīklu risināšana⚔️ cīņas un izaicinājumi🗺️ aizraujoša fantāzijas pasaule⭐ iespēja attīstīt savu varoni un krāt pieredzes punktus \n\n\n\n👥 Laipni aicināti jaunieši vecumā no 13 līdz 25 gadiem!Nav nepieciešama iepriekšēja pieredze — viss tiks izskaidrots uz vietas. \n\n\n\nNāc un kļūsti par sava stāsta varoni! 😎✨
URL:https://jurmalasjauniesi.lv/event/dungeons-dragons-spelu-vakars/
ATTACH;FMTTYPE=image/png:https://jurmalasjauniesi.lv/wp-content/uploads/2026/04/image-2.png
END:VEVENT
END:VCALENDAR