BEGIN:VCALENDAR
VERSION:2.0
PRODID:-//Jūrmalas Jaunieši - ECPv6.15.17.1//NONSGML v1.0//EN
CALSCALE:GREGORIAN
METHOD:PUBLISH
X-WR-CALNAME:Jūrmalas Jaunieši
X-ORIGINAL-URL:https://jurmalasjauniesi.lv
X-WR-CALDESC:Events for Jūrmalas Jaunieši
REFRESH-INTERVAL;VALUE=DURATION:PT1H
X-Robots-Tag:noindex
X-PUBLISHED-TTL:PT1H
BEGIN:VTIMEZONE
TZID:Europe/Riga
BEGIN:DAYLIGHT
TZOFFSETFROM:+0200
TZOFFSETTO:+0300
TZNAME:EEST
DTSTART:20250330T010000
END:DAYLIGHT
BEGIN:STANDARD
TZOFFSETFROM:+0300
TZOFFSETTO:+0200
TZNAME:EET
DTSTART:20251026T010000
END:STANDARD
BEGIN:DAYLIGHT
TZOFFSETFROM:+0200
TZOFFSETTO:+0300
TZNAME:EEST
DTSTART:20260329T010000
END:DAYLIGHT
BEGIN:STANDARD
TZOFFSETFROM:+0300
TZOFFSETTO:+0200
TZNAME:EET
DTSTART:20261025T010000
END:STANDARD
BEGIN:DAYLIGHT
TZOFFSETFROM:+0200
TZOFFSETTO:+0300
TZNAME:EEST
DTSTART:20270328T010000
END:DAYLIGHT
BEGIN:STANDARD
TZOFFSETFROM:+0300
TZOFFSETTO:+0200
TZNAME:EET
DTSTART:20271031T010000
END:STANDARD
END:VTIMEZONE
BEGIN:VEVENT
DTSTART;TZID=Europe/Riga:20260423T160000
DTEND;TZID=Europe/Riga:20260423T180000
DTSTAMP:20260423T023634
CREATED:20260414T101929Z
LAST-MODIFIED:20260414T101929Z
UID:1485-1776960000-1776967200@jurmalasjauniesi.lv
SUMMARY:Nodarbība par veselīgām izvēlēm\, emocijām un atkarību riskiem
DESCRIPTION: Bezmaksas nodarbība jauniešiem Jūrmalā! \n\n\n\n🧠 Par veselīgām izvēlēm\, emocijām un atkarību riskiem📅 23.04. | ⏰ 16:00–18:30📍 Jaunatnes iniciatīvu centrs \n\n\n\n✨ Praktiski padomi tavai labsajūtai ikdienā \n\n\n\n🔗 Piesakies: https://ej.uz/veseligasizveles \n\n\n\nNodarbību organizē Jūrmalas Labklājības pārvalde ESF+ projekta “Pasākumi vietējās sabiedrības veselības veicināšanai un slimību profilaksei Jūrmalā”\, ID Nr. 4.1.2.2/1/24/I/013\, pakalpojuma “Informatīvi izglītojošas aktivitātes atkarību izraisošo vielu un procesu profilaksē iedzīvotājiem\, t.sk īpaši nabadzības\, sociālās atstumtības riskam pakļautie iedzīvotājiem” ietvaros.
URL:https://jurmalasjauniesi.lv/event/nodarbiba-par-veseligam-izvelem-emocijam-un-atkaribu-riskiem/
ATTACH;FMTTYPE=image/png:https://jurmalasjauniesi.lv/wp-content/uploads/2026/04/image-3.png
END:VEVENT
END:VCALENDAR